BEGIN:VCALENDAR
VERSION:2.0
PRODID:-//Pioneer Title Co – Going Beyond - ECPv6.15.13.1//NONSGML v1.0//EN
CALSCALE:GREGORIAN
METHOD:PUBLISH
X-WR-CALNAME:Pioneer Title Co – Going Beyond
X-ORIGINAL-URL:https://www.pioneertitleco.com
X-WR-CALDESC:Events for Pioneer Title Co – Going Beyond
REFRESH-INTERVAL;VALUE=DURATION:PT1H
X-Robots-Tag:noindex
X-PUBLISHED-TTL:PT1H
BEGIN:VTIMEZONE
TZID:America/Boise
BEGIN:DAYLIGHT
TZOFFSETFROM:-0700
TZOFFSETTO:-0600
TZNAME:MDT
DTSTART:20250309T090000
END:DAYLIGHT
BEGIN:STANDARD
TZOFFSETFROM:-0600
TZOFFSETTO:-0700
TZNAME:MST
DTSTART:20251102T080000
END:STANDARD
BEGIN:DAYLIGHT
TZOFFSETFROM:-0700
TZOFFSETTO:-0600
TZNAME:MDT
DTSTART:20260308T090000
END:DAYLIGHT
BEGIN:STANDARD
TZOFFSETFROM:-0600
TZOFFSETTO:-0700
TZNAME:MST
DTSTART:20261101T080000
END:STANDARD
BEGIN:DAYLIGHT
TZOFFSETFROM:-0700
TZOFFSETTO:-0600
TZNAME:MDT
DTSTART:20270314T090000
END:DAYLIGHT
BEGIN:STANDARD
TZOFFSETFROM:-0600
TZOFFSETTO:-0700
TZNAME:MST
DTSTART:20271107T080000
END:STANDARD
END:VTIMEZONE
BEGIN:VEVENT
DTSTART;TZID=America/Boise:20260527T130000
DTEND;TZID=America/Boise:20260527T160000
DTSTAMP:20260423T102839
CREATED:20260403T162106Z
LAST-MODIFIED:20260406T150300Z
UID:9316-1779886800-1779897600@www.pioneertitleco.com
SUMMARY:[Boise] Residential Construction (E1176) • 3 Credits
DESCRIPTION:In this course\, students will explore each phase of residential home construction in detail\, from the initial stages of land development to the final components of modern home building. The course covers the entire development process\, offering insights into site preparation\, infrastructure planning\, and regulatory considerations. Students will also examine the materials\, techniques\, and systems commonly used in contemporary home construction\, gaining a comprehensive understanding of how homes are designed and built in today’s market. This knowledge will provide a solid foundation for anyone looking to engage in residential construction or land development.
URL:https://www.pioneertitleco.com/event/boise-residential-construction-e1176-3-credits-2/
LOCATION:PTC – Boise HQ\, 8151 W Rifleman Street\, Boise\, ID\, 83704\, United States
CATEGORIES:Continuing Education
ATTACH;FMTTYPE=image/jpeg:https://www.pioneertitleco.com/wp-content/uploads/2024/09/E1176-scaled.jpg
END:VEVENT
BEGIN:VEVENT
DTSTART;TZID=America/Boise:20260528T080000
DTEND;TZID=America/Boise:20260528T120000
DTSTAMP:20260423T102839
CREATED:20251008T151727Z
LAST-MODIFIED:20260406T150710Z
UID:8545-1779955200-1779969600@www.pioneertitleco.com
SUMMARY:[Nampa] Idaho Water Law (E1091) • 4 Credits
DESCRIPTION:Water is important to land use and valuation—land practitioners\, brokers\, land use planners\, and land owners must consider water rights before any other factor\, for all that lives must have water. This course covers the complexities of water rights in Idaho. Discussed are topics relating to Prior appropriation\, Legal proceedings of the Snake River Basin adjudication\, domestic and municipal rights\, abandonment and forfeiture\, geothermal rights\, surface\, ground and stock rights. This course is 4 CE credits for Idaho and Oregon license renewal.
URL:https://www.pioneertitleco.com/event/nampa-idaho-water-law-e1091-4-credits-2/
LOCATION:PTC – Nampa – Downtown\, 100 10th Ave S\, Nampa\, ID\, 83651\, United States
CATEGORIES:Continuing Education
ATTACH;FMTTYPE=image/jpeg:https://www.pioneertitleco.com/wp-content/uploads/2021/03/idahowaterlaws.jpg
END:VEVENT
BEGIN:VEVENT
DTSTART;TZID=America/Boise:20260528T130000
DTEND;TZID=America/Boise:20260528T160000
DTSTAMP:20260423T102839
CREATED:20251008T153234Z
LAST-MODIFIED:20260406T151227Z
UID:8547-1779973200-1779984000@www.pioneertitleco.com
SUMMARY:[Nampa] Residential Construction (E1176) • 3 Credits
DESCRIPTION:In this course\, students will explore each phase of residential home construction in detail\, from the initial stages of land development to the final components of modern home building. The course covers the entire development process\, offering insights into site preparation\, infrastructure planning\, and regulatory considerations. Students will also examine the materials\, techniques\, and systems commonly used in contemporary home construction\, gaining a comprehensive understanding of how homes are designed and built in today’s market. This knowledge will provide a solid foundation for anyone looking to engage in residential construction or land development.
URL:https://www.pioneertitleco.com/event/nampa-residential-construction-e1176-3-credits/
LOCATION:PTC – Nampa – Downtown\, 100 10th Ave S\, Nampa\, ID\, 83651\, United States
CATEGORIES:Continuing Education
ATTACH;FMTTYPE=image/jpeg:https://www.pioneertitleco.com/wp-content/uploads/2024/09/E1176-scaled.jpg
END:VEVENT
BEGIN:VEVENT
DTSTART;TZID=America/Boise:20260604T090000
DTEND;TZID=America/Boise:20260604T120000
DTSTAMP:20260423T102839
CREATED:20260407T144440Z
LAST-MODIFIED:20260407T144446Z
UID:9330-1780563600-1780574400@www.pioneertitleco.com
SUMMARY:[Boise] Cyber Safe Closings: Protect your clients from Real Estate Fraud (E1690) • 3 Credits
DESCRIPTION:In today’s interconnected world\, real estate transactions increasingly occur online\, presenting both opportunities and risks. One of the most pressing challenges facing real estate professionals is the alarming rise in wire fraud incidents. As technology advances\, so do the tactics of cybercriminals\, making it imperative for real estate agents to be equipped with the knowledge and skills to protect themselves and their clients from financial harm.\nPresented by Scott Miller\, Director of Information Technology at Pioneer Title Co.\, this course is designed to provide real estate agents with comprehensive security training tailored to the unique challenges of the industry. With years of experience in cybersecurity and a deep understanding of the real estate landscape\, Scott Miller brings invaluable insights and practical strategies to the table.\nBy completing this course\, real estate agents will be empowered to navigate the digital landscape with confidence\, ensuring the security and integrity of their transactions while building trust with clients and colleagues. Don’t miss this opportunity to fortify your defenses against wire fraud and elevate your professional practice in an age of increased cyber threats.
URL:https://www.pioneertitleco.com/event/boise-cyber-safe-closings-protect-your-clients-from-real-estate-fraud-e1690-3-credits/
LOCATION:PTC – Boise HQ\, 8151 W Rifleman Street\, Boise\, ID\, 83704\, United States
CATEGORIES:Continuing Education
ATTACH;FMTTYPE=image/jpeg:https://www.pioneertitleco.com/wp-content/uploads/2025/03/E1690-scaled.jpg
END:VEVENT
BEGIN:VEVENT
DTSTART;TZID=America/Boise:20260618T110000
DTEND;TZID=America/Boise:20260618T120000
DTSTAMP:20260423T102839
CREATED:20260414T163518Z
LAST-MODIFIED:20260414T163525Z
UID:9343-1781780400-1781784000@www.pioneertitleco.com
SUMMARY:[Boise] Real Estate Investing 101 for Agents (E3120 ) • 1 Credit
DESCRIPTION:This course equips real estate agents with a working knowledge of real estate investing fundamentals so they can better serve investor clients\, identify investment opportunities\, and ethically position themselves as trusted advisors.
URL:https://www.pioneertitleco.com/event/boise-real-estate-investing-101-for-agents-e3120-1-credit/
LOCATION:PTC – Boise HQ\, 8151 W Rifleman Street\, Boise\, ID\, 83704\, United States
CATEGORIES:Continuing Education
ATTACH;FMTTYPE=image/jpeg:https://www.pioneertitleco.com/wp-content/uploads/2026/04/RE-Investing-101-E3120.jpg
END:VEVENT
BEGIN:VEVENT
DTSTART;TZID=America/Boise:20260624T130000
DTEND;TZID=America/Boise:20260624T150000
DTSTAMP:20260423T102839
CREATED:20260325T151413Z
LAST-MODIFIED:20260325T151423Z
UID:9226-1782306000-1782313200@www.pioneertitleco.com
SUMMARY:[Fruitland] Real Estate Finance for Investors – What Agents & Investors Need to Know (E3047) • 2 Credits
DESCRIPTION:This Real Estate Investors course is designed to provide aspiring investors with the tools\, strategies\, and knowledge to succeed in the real estate market. Covering key concepts such as financing options\, risk management\, and investment strategies. This course will equip students with the skills to identify profitable opportunities\, analyze market trends\, maximize returns\, and the tricks to financing with more advantageous terms than just standard guidelines. \nIdaho & Oregon Credits
URL:https://www.pioneertitleco.com/event/fruitland-real-estate-finance-for-investors-what-agents-investors-need-to-know-e3047-2-credits/
LOCATION:Farmers Mutual Telephone Company Conference Center\, 303 SW 3rd Street\, Fruitland\, ID\, 83619\, United States
CATEGORIES:Continuing Education
ATTACH;FMTTYPE=image/jpeg:https://www.pioneertitleco.com/wp-content/uploads/2025/05/Refinance-1641031-scaled.jpg
END:VEVENT
BEGIN:VEVENT
DTSTART;TZID=America/Boise:20260826T080000
DTEND;TZID=America/Boise:20260826T120000
DTSTAMP:20260423T102839
CREATED:20251001T144725Z
LAST-MODIFIED:20260403T162759Z
UID:8521-1787731200-1787745600@www.pioneertitleco.com
SUMMARY:[Boise] Land Brokerage (E0862) • 4 Credits
DESCRIPTION:This course examines the sophistication\, demands\, and complexities involved in land brokerage\, offering a comprehensive study of key elements in the field. The course covers land use rights\, which dictate how properties can be developed and utilized. It provides an in-depth understanding of the Public Land Survey System for accurately identifying land parcels. Students will explore various land uses\, from agricultural to commercial\, and learn the importance of making proper disclosures in land transactions. Additionally\, the course delves into critical areas such as water rights\, which govern legal access to water resources\, and mineral rights\, which involve the ownership and extraction of underground resources. This course equips students with the knowledge and skills needed to navigate the intricate landscape of land brokerage.
URL:https://www.pioneertitleco.com/event/boise-land-brokerage-e0862-4-credits/
LOCATION:PTC – Boise HQ\, 8151 W Rifleman Street\, Boise\, ID\, 83704\, United States
CATEGORIES:Continuing Education
ATTACH;FMTTYPE=image/jpeg:https://www.pioneertitleco.com/wp-content/uploads/2024/09/E0862-scaled.jpg
END:VEVENT
BEGIN:VEVENT
DTSTART;TZID=America/Boise:20260826T130000
DTEND;TZID=America/Boise:20260826T160000
DTSTAMP:20260423T102839
CREATED:20251001T192153Z
LAST-MODIFIED:20260403T163142Z
UID:8531-1787749200-1787760000@www.pioneertitleco.com
SUMMARY:[Boise] Real Estate in Retirement (E1484) • 3 Credits
DESCRIPTION:Utilizing retirement plans in the investment of real estate is an effective means of purchasing or lending to build consistent lifetime income. Retirement plan designs can allow the investor to build high amounts of wealth in real estate. To serve the public interest licensees must possess the knowledge and expertise with ERISA qualiﬁed retirement plans in compliance to those plan designs.
URL:https://www.pioneertitleco.com/event/boise-real-estate-in-retirement-e1484-3-credits/
LOCATION:PTC – Boise HQ\, 8151 W Rifleman Street\, Boise\, ID\, 83704\, United States
CATEGORIES:Continuing Education
ATTACH;FMTTYPE=image/jpeg:https://www.pioneertitleco.com/wp-content/uploads/2024/09/E1484-scaled.jpg
END:VEVENT
BEGIN:VEVENT
DTSTART;TZID=America/Boise:20260827T080000
DTEND;TZID=America/Boise:20260827T120000
DTSTAMP:20260423T102839
CREATED:20260403T153234Z
LAST-MODIFIED:20260406T151708Z
UID:9310-1787817600-1787832000@www.pioneertitleco.com
SUMMARY:[Nampa] Conservation Easements (E0937) • 4 Credits
DESCRIPTION:This course will examine the advantages and disadvantages of Conservation easements\, the tax policy that promotes the practice\, historical review of land control and the long-term implications to forever restricting development and other uses of lands in Idaho. Conservation Easements are being placed on land in Idaho at an alarming rate. Agents and Attorneys will beneﬁt from learning ways to assist a client in receiving tax advantaged beneﬁts without forever restricting land development.
URL:https://www.pioneertitleco.com/event/nampa-conservation-easements-e0937-4-credits/
LOCATION:PTC – Nampa – Downtown\, 100 10th Ave S\, Nampa\, ID\, 83651\, United States
CATEGORIES:Continuing Education
ATTACH;FMTTYPE=image/png:https://www.pioneertitleco.com/wp-content/uploads/2026/04/Conservation-E0937-scaled.png
END:VEVENT
BEGIN:VEVENT
DTSTART;TZID=America/Boise:20260827T130000
DTEND;TZID=America/Boise:20260827T160000
DTSTAMP:20260423T102839
CREATED:20260402T211940Z
LAST-MODIFIED:20260406T151633Z
UID:9307-1787835600-1787846400@www.pioneertitleco.com
SUMMARY:[Nampa] Real Estate in Retirement (E1484) • 3 Credits
DESCRIPTION:Utilizing retirement plans in the investment of real estate is an effective means of purchasing or lending to build consistent lifetime income. Retirement plan designs can allow the investor to build high amounts of wealth in real estate. To serve the public interest licensees must possess the knowledge and expertise with ERISA qualiﬁed retirement plans in compliance to those plan designs.
URL:https://www.pioneertitleco.com/event/nampa-real-estate-in-retirement-e1484-3-credits/
LOCATION:PTC – Nampa – Downtown\, 100 10th Ave S\, Nampa\, ID\, 83651\, United States
CATEGORIES:Continuing Education
ATTACH;FMTTYPE=image/jpeg:https://www.pioneertitleco.com/wp-content/uploads/2024/09/E1484-scaled.jpg
END:VEVENT
BEGIN:VEVENT
DTSTART;TZID=America/Boise:20260902T130000
DTEND;TZID=America/Boise:20260902T150000
DTSTAMP:20260423T102839
CREATED:20260325T143315Z
LAST-MODIFIED:20260408T163415Z
UID:9224-1788354000-1788361200@www.pioneertitleco.com
SUMMARY:[Fruitland] Easy AI – Introduction (E3079) • 2 Credits
DESCRIPTION:This course introduces real estate professionals to the practical use of Artificial Intelligence (AI) tools—like ChatGPT—to improve productivity\, marketing\, and client communication. Students will learn how to use AI to create professional listing descriptions\, social media content\, and client communication templates in seconds. Through guided demonstrations and real-world examples\, participants explore how AI benefits both consumers and agents by enhancing efficiency\, personalization\, and accuracy throughout a real estate transaction. \nIdaho Only Credits \n 
URL:https://www.pioneertitleco.com/event/fruitland-easy-ai-introduction-e3079-2-credits/
LOCATION:Farmers Mutual Telephone Company Conference Center\, 303 SW 3rd Street\, Fruitland\, ID\, 83619\, United States
CATEGORIES:Continuing Education
ATTACH;FMTTYPE=image/jpeg:https://www.pioneertitleco.com/wp-content/uploads/2026/03/E3079-Easy-AI-Intro-scaled.jpg
END:VEVENT
END:VCALENDAR