BEGIN:VCALENDAR
VERSION:2.0
PRODID:-//Pioneer Title Co – Going Beyond - ECPv6.15.13.1//NONSGML v1.0//EN
CALSCALE:GREGORIAN
METHOD:PUBLISH
X-WR-CALNAME:Pioneer Title Co – Going Beyond
X-ORIGINAL-URL:https://www.pioneertitleco.com
X-WR-CALDESC:Events for Pioneer Title Co – Going Beyond
REFRESH-INTERVAL;VALUE=DURATION:PT1H
X-Robots-Tag:noindex
X-PUBLISHED-TTL:PT1H
BEGIN:VTIMEZONE
TZID:America/Boise
BEGIN:DAYLIGHT
TZOFFSETFROM:-0700
TZOFFSETTO:-0600
TZNAME:MDT
DTSTART:20240310T090000
END:DAYLIGHT
BEGIN:STANDARD
TZOFFSETFROM:-0600
TZOFFSETTO:-0700
TZNAME:MST
DTSTART:20241103T080000
END:STANDARD
BEGIN:DAYLIGHT
TZOFFSETFROM:-0700
TZOFFSETTO:-0600
TZNAME:MDT
DTSTART:20250309T090000
END:DAYLIGHT
BEGIN:STANDARD
TZOFFSETFROM:-0600
TZOFFSETTO:-0700
TZNAME:MST
DTSTART:20251102T080000
END:STANDARD
BEGIN:DAYLIGHT
TZOFFSETFROM:-0700
TZOFFSETTO:-0600
TZNAME:MDT
DTSTART:20260308T090000
END:DAYLIGHT
BEGIN:STANDARD
TZOFFSETFROM:-0600
TZOFFSETTO:-0700
TZNAME:MST
DTSTART:20261101T080000
END:STANDARD
BEGIN:DAYLIGHT
TZOFFSETFROM:-0700
TZOFFSETTO:-0600
TZNAME:MDT
DTSTART:20270314T090000
END:DAYLIGHT
BEGIN:STANDARD
TZOFFSETFROM:-0600
TZOFFSETTO:-0700
TZNAME:MST
DTSTART:20271107T080000
END:STANDARD
END:VTIMEZONE
BEGIN:VEVENT
DTSTART;TZID=America/Boise:20260401T160000
DTEND;TZID=America/Boise:20260401T190000
DTSTAMP:20260423T154126
CREATED:20260318T194459Z
LAST-MODIFIED:20260326T160341Z
UID:9132-1775059200-1775070000@www.pioneertitleco.com
SUMMARY:[Caldwell] Prom Drive Mixer
DESCRIPTION:Sip a Wildcat Margarita\, network for a cause\, and help Wilder students shine! All proceeds raised during the event will go toward new bleachers for Wilder High School Athletics\, while donated prom dresses will help ensure every student has the opportunity to attend prom. \nFor more information\, please contact\nIngrid Guerrero – (909) 979-7193 or Priscilla Higuera – (208) 901-2645
URL:https://www.pioneertitleco.com/event/caldwell-prom-drive-mixer/
LOCATION:2C Wine\, 113 S 7th Ave\, Caldwell\, ID\, 83605\, United States
CATEGORIES:Social Events
ATTACH;FMTTYPE=image/png:https://www.pioneertitleco.com/wp-content/uploads/2026/03/Calendar-Event.png
END:VEVENT
BEGIN:VEVENT
DTSTART;TZID=America/Boise:20251210T160000
DTEND;TZID=America/Boise:20251210T190000
DTSTAMP:20260423T154126
CREATED:20251125T172051Z
LAST-MODIFIED:20251125T172148Z
UID:8674-1765382400-1765393200@www.pioneertitleco.com
SUMMARY:Christmas with Santa - Fruitland
DESCRIPTION:Join us for pictures with Santa\, hot drinks by Black Cow Cafe\, & fresh cookies at Pioneer Title Co in Fruitland.\nHelp us Top-Off the Trailer by  bringing non-perishable food items to be donated to the Idaho Food Bank in partnership with Pioneer Gives and help us make this holiday season a little better for those in need!
URL:https://www.pioneertitleco.com/event/christmas-with-santa-fruitland/
LOCATION:PTC – Fruitland\, 2048 N Whitley Dr\, Fruitland\, ID\, 83619\, United States
CATEGORIES:Social Events
ATTACH;FMTTYPE=image/jpeg:https://www.pioneertitleco.com/wp-content/uploads/2025/11/FRUITLAND-Calender-e1764091226309.jpg
END:VEVENT
BEGIN:VEVENT
DTSTART;TZID=America/Boise:20251203T180000
DTEND;TZID=America/Boise:20251203T200000
DTSTAMP:20260423T154126
CREATED:20251002T172008Z
LAST-MODIFIED:20251002T172008Z
UID:8534-1764784800-1764792000@www.pioneertitleco.com
SUMMARY:5th Annual PTC Christmas with Santa - Emmett
DESCRIPTION:Join us at Pioneer Title Co in Emmett for pictures with Santa\, hot drinks\, and fresh cookies! Help us Top-Off the Trailer by bringing non-perishable food items\, which will be donated to the Idaho Food Bank in partnership with Pioneer Gives. Together\, we can make this holiday season a little brighter for those in need!
URL:https://www.pioneertitleco.com/event/5th-annual-ptc-christmas-with-santa-emmett/
LOCATION:PTC – Emmett\, 2020 S. Johns Ave\, Emmett\, ID\, 83617\, United States
CATEGORIES:Social Events
ATTACH;FMTTYPE=image/jpeg:https://www.pioneertitleco.com/wp-content/uploads/2025/10/Calendar.jpg
END:VEVENT
END:VCALENDAR