BEGIN:VCALENDAR
VERSION:2.0
PRODID:-//Pioneer Title Co – Going Beyond - ECPv6.15.13.1//NONSGML v1.0//EN
CALSCALE:GREGORIAN
METHOD:PUBLISH
X-WR-CALNAME:Pioneer Title Co – Going Beyond
X-ORIGINAL-URL:https://www.pioneertitleco.com
X-WR-CALDESC:Events for Pioneer Title Co – Going Beyond
REFRESH-INTERVAL;VALUE=DURATION:PT1H
X-Robots-Tag:noindex
X-PUBLISHED-TTL:PT1H
BEGIN:VTIMEZONE
TZID:America/Boise
BEGIN:DAYLIGHT
TZOFFSETFROM:-0700
TZOFFSETTO:-0600
TZNAME:MDT
DTSTART:20240310T090000
END:DAYLIGHT
BEGIN:STANDARD
TZOFFSETFROM:-0600
TZOFFSETTO:-0700
TZNAME:MST
DTSTART:20241103T080000
END:STANDARD
BEGIN:DAYLIGHT
TZOFFSETFROM:-0700
TZOFFSETTO:-0600
TZNAME:MDT
DTSTART:20250309T090000
END:DAYLIGHT
BEGIN:STANDARD
TZOFFSETFROM:-0600
TZOFFSETTO:-0700
TZNAME:MST
DTSTART:20251102T080000
END:STANDARD
BEGIN:DAYLIGHT
TZOFFSETFROM:-0700
TZOFFSETTO:-0600
TZNAME:MDT
DTSTART:20260308T090000
END:DAYLIGHT
BEGIN:STANDARD
TZOFFSETFROM:-0600
TZOFFSETTO:-0700
TZNAME:MST
DTSTART:20261101T080000
END:STANDARD
END:VTIMEZONE
BEGIN:VEVENT
DTSTART;TZID=America/Boise:20251203T180000
DTEND;TZID=America/Boise:20251203T200000
DTSTAMP:20260423T120121
CREATED:20251002T172008Z
LAST-MODIFIED:20251002T172008Z
UID:8534-1764784800-1764792000@www.pioneertitleco.com
SUMMARY:5th Annual PTC Christmas with Santa - Emmett
DESCRIPTION:Join us at Pioneer Title Co in Emmett for pictures with Santa\, hot drinks\, and fresh cookies! Help us Top-Off the Trailer by bringing non-perishable food items\, which will be donated to the Idaho Food Bank in partnership with Pioneer Gives. Together\, we can make this holiday season a little brighter for those in need!
URL:https://www.pioneertitleco.com/event/5th-annual-ptc-christmas-with-santa-emmett/
LOCATION:PTC – Emmett\, 2020 S. Johns Ave\, Emmett\, ID\, 83617\, United States
CATEGORIES:Social Events
ATTACH;FMTTYPE=image/jpeg:https://www.pioneertitleco.com/wp-content/uploads/2025/10/Calendar.jpg
END:VEVENT
BEGIN:VEVENT
DTSTART;TZID=America/Boise:20251119T100000
DTEND;TZID=America/Boise:20251119T130000
DTSTAMP:20260423T120121
CREATED:20250318T172710Z
LAST-MODIFIED:20251001T152756Z
UID:7811-1763546400-1763557200@www.pioneertitleco.com
SUMMARY:[Boise] Residential Construction (E1176) • 3 Credits
DESCRIPTION:In this course\, students will explore each phase of residential home construction in detail\, from the initial stages of land development to the final components of modern home building. The course covers the entire development process\, offering insights into site preparation\, infrastructure planning\, and regulatory considerations. Students will also examine the materials\, techniques\, and systems commonly used in contemporary home construction\, gaining a comprehensive understanding of how homes are designed and built in today’s market. This knowledge will provide a solid foundation for anyone looking to engage in residential construction or land development. \n\n\n\nThe class fee is $10.00\, payable in cash on the day of class.
URL:https://www.pioneertitleco.com/event/boise-residential-construction-e1176-3-credits/
LOCATION:PTC – Boise HQ\, 8151 W Rifleman Street\, Boise\, ID\, 83704\, United States
CATEGORIES:Continuing Education
ATTACH;FMTTYPE=image/jpeg:https://www.pioneertitleco.com/wp-content/uploads/2024/09/E1176-scaled.jpg
END:VEVENT
BEGIN:VEVENT
DTSTART;TZID=America/Boise:20251118T100000
DTEND;TZID=America/Boise:20251118T120000
DTSTAMP:20260423T120121
CREATED:20250522T203529Z
LAST-MODIFIED:20251030T141849Z
UID:8025-1763460000-1763467200@www.pioneertitleco.com
SUMMARY:[Boise] RE Finance for Investors – What Agents & Investors Need to Know (1641031) • 2 Credits
DESCRIPTION:This Real Estate Investors course is designed to provide aspiring investors with the tools\, strategies\, and knowledge to succeed in the real estate market. Covering key concepts such as financing options\, risk management\, and investment strategies. This course will equip students with the skills to identify profitable opportunities\, analyze market trends\, maximize returns\, and the tricks to financing with more advantageous terms than just standard guidelines. Whether you’re looking to invest in residential\, commercial\, or rental properties\, this class is built to help both investors and agents working with investors. Grow your real estate portfolio\, now!
URL:https://www.pioneertitleco.com/event/boise-re-finance-for-investors-what-agents-investors-need-to-know-1641031-2-credits/
LOCATION:PTC – Boise HQ\, 8151 W Rifleman Street\, Boise\, ID\, 83704\, United States
CATEGORIES:Continuing Education
ATTACH;FMTTYPE=image/jpeg:https://www.pioneertitleco.com/wp-content/uploads/2025/05/Refinance-1641031-scaled.jpg
END:VEVENT
BEGIN:VEVENT
DTSTART;TZID=America/Boise:20251113T130000
DTEND;TZID=America/Boise:20251113T150000
DTSTAMP:20260423T120121
CREATED:20251002T181857Z
LAST-MODIFIED:20251002T182802Z
UID:8537-1763038800-1763046000@www.pioneertitleco.com
SUMMARY:[Fruitland] Mortgage Loan Programs & Requirements (#1639388 ) • 2 Credits
DESCRIPTION:A basic overview of traditional and non-traditional mortgage loan programs. Covers loan guidelines regarding credit scores\, debt-to-income ratios\, loan-to-value\, and documentation.
URL:https://www.pioneertitleco.com/event/fruitland-mortgage-loan-programs-requirements-1639388-2-credits/
LOCATION:Farmers Mutual Telephone Company Conference Center\, 303 SW 3rd Street\, Fruitland\, ID\, 83619\, United States
CATEGORIES:Continuing Education
ATTACH;FMTTYPE=image/jpeg:https://www.pioneertitleco.com/wp-content/uploads/2025/10/Mortgage-Loan-scaled.jpg
END:VEVENT
BEGIN:VEVENT
DTSTART;TZID=America/Boise:20251029T090000
DTEND;TZID=America/Boise:20251029T130000
DTSTAMP:20260423T120121
CREATED:20250721T173834Z
LAST-MODIFIED:20250923T155601Z
UID:8224-1761728400-1761742800@www.pioneertitleco.com
SUMMARY:[Boise] Forms - The ABCs and More (#1549927) • 4 Credits
DESCRIPTION:Comprehensive training on essential real estate forms\, including agency disclosures\, purchase agreements\, addendums\, and contingencies. Ensures compliance and transaction confidence.
URL:https://www.pioneertitleco.com/event/boise-forms-the-abcs-and-more-1549927-4-credits/
LOCATION:PTC – Boise HQ\, 8151 W Rifleman Street\, Boise\, ID\, 83704\, United States
CATEGORIES:Continuing Education
ATTACH;FMTTYPE=image/jpeg:https://www.pioneertitleco.com/wp-content/uploads/2025/06/Forms-–-The-ABCs-and-More-1549927-scaled.jpg
END:VEVENT
END:VCALENDAR